BEGIN:VCALENDAR
VERSION:2.0
PRODID:-//PWA Toronto - ECPv6.13.2.1//NONSGML v1.0//EN
CALSCALE:GREGORIAN
METHOD:PUBLISH
X-WR-CALNAME:PWA Toronto
X-ORIGINAL-URL:https://www.pwatoronto.org
X-WR-CALDESC:Events for PWA Toronto
REFRESH-INTERVAL;VALUE=DURATION:PT1H
X-Robots-Tag:noindex
X-PUBLISHED-TTL:PT1H
BEGIN:VTIMEZONE
TZID:America/Toronto
BEGIN:DAYLIGHT
TZOFFSETFROM:-0500
TZOFFSETTO:-0400
TZNAME:EDT
DTSTART:20260308T070000
END:DAYLIGHT
BEGIN:STANDARD
TZOFFSETFROM:-0400
TZOFFSETTO:-0500
TZNAME:EST
DTSTART:20261101T060000
END:STANDARD
END:VTIMEZONE
BEGIN:VEVENT
DTSTART;TZID=America/Toronto:20260211T130000
DTEND;TZID=America/Toronto:20260211T140000
DTSTAMP:20260422T181833
CREATED:20260211T192339Z
LAST-MODIFIED:20260211T192339Z
UID:17466-1770814800-1770818400@www.pwatoronto.org
SUMMARY:Black History Month: Black Infused Latin Food
DESCRIPTION:PWA’s Black History Month Presents: \nBlack Infused Latin Food \nCome celebrate the rich connections between Black and Latin cultures through food\, flavour\, and community. We’re serving up Arroz con Pollo — a beloved dish that tells a story of migration\, resilience\, and cultural exchange across the diaspora. \nFood has always been a powerful way to honour heritage and bring people together. Join us to taste\, learn\, and celebrate the African influence woven throughout Latin American culinary traditions. \nCome hungry. Come curious. Come celebrate.
URL:https://www.pwatoronto.org/event/black-history-month-black-infused-latin-food/
LOCATION:PWA Offices\, 163 Queen Street East\, Toronto\, On\, M5A 1S1\, Canada
ATTACH;FMTTYPE=image/jpeg:https://res.cloudinary.com/dlte7ibav/images/f_auto,q_auto/v1770837701/Feb-11-Black-Infused-Latin-Food/Feb-11-Black-Infused-Latin-Food.jpg?_i=AA
END:VEVENT
BEGIN:VEVENT
DTSTART;TZID=America/Toronto:20260212T130000
DTEND;TZID=America/Toronto:20260212T140000
DTSTAMP:20260422T181833
CREATED:20260212T163255Z
LAST-MODIFIED:20260212T163255Z
UID:17486-1770901200-1770904800@www.pwatoronto.org
SUMMARY:Black History Month: Drumming Circle
DESCRIPTION:PWA’s Black History Month Presents: \nDrumming Circle \nJoin us today for a powerful\, heart-centered drumming circle presented by 2-Spirited People of the 1st Nations. \nHeld during our Black History Month celebrations\, this gathering honours the shared and ongoing impacts of colonization on both Black and Indigenous peoples. Through drum\, rhythm\, and collective presence\, we recognize the ways our communities have resisted\, survived\, and continued to carry culture\, ceremony\, and story forward. \nAll are welcome. Come sit in circle. Come feel the drum.
URL:https://www.pwatoronto.org/event/black-history-month-drumming-circle/
LOCATION:PWA Offices\, 163 Queen Street East\, Toronto\, On\, M5A 1S1\, Canada
ATTACH;FMTTYPE=image/jpeg:https://res.cloudinary.com/dlte7ibav/images/f_auto,q_auto/v1770913964/Feb-12-Drum-Circle/Feb-12-Drum-Circle.jpg?_i=AA
END:VEVENT
BEGIN:VEVENT
DTSTART;TZID=America/Toronto:20260213T130000
DTEND;TZID=America/Toronto:20260213T140000
DTSTAMP:20260422T181833
CREATED:20260212T163835Z
LAST-MODIFIED:20260212T163835Z
UID:17489-1770987600-1770991200@www.pwatoronto.org
SUMMARY:Black History Month: Momo and Emmanuel Sua
DESCRIPTION:PWA’s Black History Month Presents: \nMomo and Emmanuel Sua \nToday we’re celebrating the artistry\, brilliance\, and creative power of Momo and Emmanuel Sua. Through their individual work\, they carry forward the richness of Black cultures — bold\, dynamic\, expressive\, and rooted in generations of resilience and imagination.
URL:https://www.pwatoronto.org/event/black-history-month-momo-and-emmanuel-sua/
LOCATION:PWA Offices\, 163 Queen Street East\, Toronto\, On\, M5A 1S1\, Canada
ATTACH;FMTTYPE=image/jpeg:https://res.cloudinary.com/dlte7ibav/images/f_auto,q_auto/v1770914282/Feb-13-Momo-and-Emmanuel/Feb-13-Momo-and-Emmanuel.jpg?_i=AA
END:VEVENT
BEGIN:VEVENT
DTSTART;TZID=America/Toronto:20260228T160000
DTEND;TZID=America/Toronto:20260228T190000
DTSTAMP:20260422T181833
CREATED:20260209T201507Z
LAST-MODIFIED:20260209T201507Z
UID:17461-1772294400-1772305200@www.pwatoronto.org
SUMMARY:Black History Month: Fashion Show
DESCRIPTION:PWA’s Black History Month Presents: \nFashion Show! Black Cultures. Black Power. Black Brilliance.  \nCelebrate culture\, creativity\, and style at our Black History Month Fashion Show! Join us as we showcase fashion inspired by Black history\, heritage\, and expression. Admission is free! Enjoy food\, drinks\, music\, and games throughout the event. Come for the fashion\, stay for the vibes—and celebrate Black excellence in all its forms. \n 
URL:https://www.pwatoronto.org/event/black-history-month-fashion-show-2/
LOCATION:PWA Offices\, 163 Queen Street East\, Toronto\, On\, M5A 1S1\, Canada
ATTACH;FMTTYPE=image/jpeg:https://res.cloudinary.com/dlte7ibav/images/f_auto,q_auto/v1770668067/Feb-28-Fashion-Show/Feb-28-Fashion-Show.jpg?_i=AA
END:VEVENT
BEGIN:VEVENT
DTSTART;TZID=America/Toronto:20260302T130000
DTEND;TZID=America/Toronto:20260302T140000
DTSTAMP:20260422T181833
CREATED:20260302T155822Z
LAST-MODIFIED:20260302T155822Z
UID:17497-1772456400-1772460000@www.pwatoronto.org
SUMMARY:International Women's Month: Claudette Korchianski
DESCRIPTION:PWA’s International Women’s Month Presents: \nClaudette Korchianski  \nClaudette Korchianski\, a human rights activist whose life was forever changed after the brutal murder of her daughter. Claudette’s journey is one of unimaginable loss transformed into advocacy\, courage\, and a relentless fight for justice. Her story is a testament to the power of a mother’s love and the strength of women who refuse to stay silent. \n 
URL:https://www.pwatoronto.org/event/international-womens-month-claudette-korchianski/
LOCATION:PWA Offices\, 163 Queen Street East\, Toronto\, On\, M5A 1S1\, Canada
ATTACH;FMTTYPE=image/jpeg:https://res.cloudinary.com/dlte7ibav/images/f_auto,q_auto/v1772467079/March-2-Claudette-Korchianski/March-2-Claudette-Korchianski.jpg?_i=AA
END:VEVENT
BEGIN:VEVENT
DTSTART;TZID=America/Toronto:20260303T130000
DTEND;TZID=America/Toronto:20260303T140000
DTSTAMP:20260422T181833
CREATED:20260303T153755Z
LAST-MODIFIED:20260303T153755Z
UID:17500-1772542800-1772546400@www.pwatoronto.org
SUMMARY:International Women's Month: Mar Mar Oo
DESCRIPTION:PWA’s International Women’s Month Presents: \nMar Mar Oo \nJoin us today as we shine a spotlight on Mar Mar Oo — a proud Burmese woman and long-time Friends For Life Bike Rally champion of spirit. For countless years\, Mar Mar has been the heartbeat of the Bike Rally — cheerleading riders up every hill\, offering encouragement when it’s needed most\, and quietly taking care of everyone around her. Her love is loud\, her support is constant\, and her presence reminds us what community truly looks like. \nToday\, we celebrate her generosity\, her resilience\, and the powerful ways women lead. \n 
URL:https://www.pwatoronto.org/event/international-womens-month-mar-mar-oo/
LOCATION:PWA Offices\, 163 Queen Street East\, Toronto\, On\, M5A 1S1\, Canada
ATTACH;FMTTYPE=image/jpeg:https://res.cloudinary.com/dlte7ibav/images/f_auto,q_auto/v1772552171/March-3-Mar-Mar-Oo/March-3-Mar-Mar-Oo.jpg?_i=AA
END:VEVENT
BEGIN:VEVENT
DTSTART;TZID=America/Toronto:20260304T130000
DTEND;TZID=America/Toronto:20260304T140000
DTSTAMP:20260422T181833
CREATED:20260304T152303Z
LAST-MODIFIED:20260304T152303Z
UID:17503-1772629200-1772632800@www.pwatoronto.org
SUMMARY:International Women's Month: Natividad Mena de Silverio
DESCRIPTION:PWA’s International Women’s Month Presents: \nNatividad Mena de Silverio \nJoin us today as we feature Natividad Mena de Silverio — a talented decorator\, model\, and passionate cook whose energy and artistry light up every room she enters. \nFrom transforming spaces with her eye for design\, to expressing herself through fashion\, to bringing people together over a beautiful meal — Natividad embodies the many ways women create impact. Today\, she’ll share what inspires her\, how she nurtures her creativity\, and why she believes in leading with authenticity and heart.
URL:https://www.pwatoronto.org/event/international-womens-month-natividad-mena-de-silverio/
LOCATION:PWA Offices\, 163 Queen Street East\, Toronto\, On\, M5A 1S1\, Canada
ATTACH;FMTTYPE=image/jpeg:https://res.cloudinary.com/dlte7ibav/images/f_auto,q_auto/v1772637776/March-4-Natividad-Mena-De-Silverio/March-4-Natividad-Mena-De-Silverio.jpg?_i=AA
END:VEVENT
END:VCALENDAR