BEGIN:VCALENDAR
VERSION:2.0
PRODID:-//PWA Toronto - ECPv6.13.2.1//NONSGML v1.0//EN
CALSCALE:GREGORIAN
METHOD:PUBLISH
X-WR-CALNAME:PWA Toronto
X-ORIGINAL-URL:https://www.pwatoronto.org
X-WR-CALDESC:Events for PWA Toronto
REFRESH-INTERVAL;VALUE=DURATION:PT1H
X-Robots-Tag:noindex
X-PUBLISHED-TTL:PT1H
BEGIN:VTIMEZONE
TZID:America/Toronto
BEGIN:DAYLIGHT
TZOFFSETFROM:-0500
TZOFFSETTO:-0400
TZNAME:EDT
DTSTART:20250309T070000
END:DAYLIGHT
BEGIN:STANDARD
TZOFFSETFROM:-0400
TZOFFSETTO:-0500
TZNAME:EST
DTSTART:20251102T060000
END:STANDARD
BEGIN:DAYLIGHT
TZOFFSETFROM:-0500
TZOFFSETTO:-0400
TZNAME:EDT
DTSTART:20260308T070000
END:DAYLIGHT
BEGIN:STANDARD
TZOFFSETFROM:-0400
TZOFFSETTO:-0500
TZNAME:EST
DTSTART:20261101T060000
END:STANDARD
END:VTIMEZONE
BEGIN:VEVENT
DTSTART;TZID=America/Toronto:20260210T130000
DTEND;TZID=America/Toronto:20260210T140000
DTSTAMP:20260421T182517
CREATED:20260209T200425Z
LAST-MODIFIED:20260209T200425Z
UID:17458-1770728400-1770732000@www.pwatoronto.org
SUMMARY:Black History Month: Learn How Rice is Done
DESCRIPTION:PWA’s Black History Month Presents: \nLearn how Rice is Done in the Caribbean \nTravel the Caribbean through flavour! Join us for a hands-on cooking experience where you’ll learn how to make Caribbean rice and explore the delicious differences between Jamaican rice and Bahamian rice. \nFrom spices to techniques\, this session is all about culture\, history\, and the stories carried through food. \nCome curious. Come hungry. \n 
URL:https://www.pwatoronto.org/event/black-history-month-learn-how-rice-is-done/
LOCATION:PWA Offices\, 163 Queen Street East\, Toronto\, On\, M5A 1S1\, Canada
ATTACH;FMTTYPE=image/jpeg:https://res.cloudinary.com/dlte7ibav/images/f_auto,q_auto/v1770667450/Feb-10-Caribbean-Rice/Feb-10-Caribbean-Rice.jpg?_i=AA
END:VEVENT
BEGIN:VEVENT
DTSTART;TZID=America/Toronto:20260209T130000
DTEND;TZID=America/Toronto:20260209T140000
DTSTAMP:20260421T182517
CREATED:20260209T192855Z
LAST-MODIFIED:20260209T193856Z
UID:17455-1770642000-1770645600@www.pwatoronto.org
SUMMARY:Black History Month: Amina Shoo
DESCRIPTION:PWA’s Black History Month Presents: \nLearn how to make delicious Jollof Rice with Amina Shoo \nToday\, we’re celebrating culture through food! Join us and learn how to make delicious Jollof Rice with Amina Shoo\, who will be sharing her Tanzanian roots\, stories\, and flavours. All are welcome — bring your curiosity and your appetite! \nCome for the culture\, stay for the food. \n 
URL:https://www.pwatoronto.org/event/black-history-month-amina-shoo/
LOCATION:PWA Offices\, 163 Queen Street East\, Toronto\, On\, M5A 1S1\, Canada
ATTACH;FMTTYPE=image/jpeg:https://res.cloudinary.com/dlte7ibav/images/f_auto,q_auto/v1770665104/Feb-9-Amina-Shoo/Feb-9-Amina-Shoo.jpg?_i=AA
END:VEVENT
BEGIN:VEVENT
DTSTART;TZID=America/Toronto:20260205T130000
DTEND;TZID=America/Toronto:20260205T140000
DTSTAMP:20260421T182517
CREATED:20260211T193125Z
LAST-MODIFIED:20260211T193912Z
UID:17470-1770296400-1770300000@www.pwatoronto.org
SUMMARY:Black History Month: Pulse of the Caribbean with MC Zlatan
DESCRIPTION:PWA’s Black History Month Presents: \nPulse of the Caribbean with MC Zlatan \n\nSpend your afternoon with us today from 1–2 PM on the 1st floor for a Black History Month experience hosted by MC Zlatan.\n\n\nDrop in\, enjoy a free lunch\, and celebrate Black history in all its depth and richness.\n\n 
URL:https://www.pwatoronto.org/event/black-history-month-pulse-of-the-caribbean-with-mc-zlatan/
LOCATION:PWA Offices\, 163 Queen Street East\, Toronto\, On\, M5A 1S1\, Canada
ATTACH;FMTTYPE=image/jpeg:https://res.cloudinary.com/dlte7ibav/images/f_auto,q_auto/v1770838278/Feb-5-Pulse-of-the-Caribbean/Feb-5-Pulse-of-the-Caribbean.jpg?_i=AA
END:VEVENT
BEGIN:VEVENT
DTSTART;TZID=America/Toronto:20260204T130000
DTEND;TZID=America/Toronto:20260204T140000
DTSTAMP:20260421T182517
CREATED:20260211T193309Z
LAST-MODIFIED:20260211T194406Z
UID:17473-1770210000-1770213600@www.pwatoronto.org
SUMMARY:Black History Month: Pulse of the Caribbean with Travis King
DESCRIPTION:PWA’s Black History Month Presents: \nPulse of the Caribbean with Travis King \n\n\n\nJoin us today from 1–2 PM in Studio 163 for a powerful Black History Month feature showcasing the work of Travis King.\n\n\n\nThrough the art of storytelling and Caribbean rhythms\, Travis will explore the African legacy and influence in Latin America\, highlighting histories\, cultures\, and connections that continue to shape our world today.\n\n\n\nCome learn\, reflect\, and celebrate with us. All are welcome!\n\n\n\n 
URL:https://www.pwatoronto.org/event/black-history-month-pulse-of-the-caribbean-with-travis-king/
LOCATION:PWA Offices\, 163 Queen Street East\, Toronto\, On\, M5A 1S1\, Canada
ATTACH;FMTTYPE=image/jpeg:https://res.cloudinary.com/dlte7ibav/images/f_auto,q_auto/v1770838374/Feb-4-Travis-King/Feb-4-Travis-King.jpg?_i=AA
END:VEVENT
BEGIN:VEVENT
DTSTART;TZID=America/Toronto:20260203T130000
DTEND;TZID=America/Toronto:20260203T140000
DTSTAMP:20260421T182517
CREATED:20260211T193823Z
LAST-MODIFIED:20260211T194150Z
UID:17477-1770123600-1770127200@www.pwatoronto.org
SUMMARY:Black History Month: Happie Micah Edwards
DESCRIPTION:PWA’s Black History Month Presents: \nHappie Micah Edwards \n\n\n\n\nJoin us for an unforgettable afternoon celebrating the powerful creative voice of Happie — a self-taught artist and Bruk-Out Jamaican-born Canadian storyteller whose work moves at the intersection of culture\, consciousness\, and community. \nRooted in the rhythms of the diaspora and guided by his studies in New Thought metaphysics\, Happie blends visual art and storytelling to explore identity\, healing\, liberation\, and collective memory. \nAs an Ontario Community Changemaker alum\, Black August Residency alum\, and proud member of the Fellowship of the Griots\, Happie carries forward the sacred tradition of storytelling — honouring the past while shaping new narratives for the future.
URL:https://www.pwatoronto.org/event/black-history-month-happie-micah-edwards/
LOCATION:PWA Offices\, 163 Queen Street East\, Toronto\, On\, M5A 1S1\, Canada
ATTACH;FMTTYPE=image/jpeg:https://res.cloudinary.com/dlte7ibav/images/f_auto,q_auto/v1770838721/Feb-3-Happie-Micha-Edwards/Feb-3-Happie-Micha-Edwards.jpg?_i=AA
END:VEVENT
BEGIN:VEVENT
DTSTART;TZID=America/Toronto:20260202T130000
DTEND;TZID=America/Toronto:20260202T140000
DTSTAMP:20260421T182517
CREATED:20260211T194125Z
LAST-MODIFIED:20260211T194125Z
UID:17481-1770037200-1770040800@www.pwatoronto.org
SUMMARY:Black History Month: Dol K'Am
DESCRIPTION:PWA’s Black History Month Presents: \nDol K’Am \n\n\n\n\nJoin us this afternoon as we celebrate the Performance Artist Dol K’Am from Cameroon.
URL:https://www.pwatoronto.org/event/black-history-month-dol-kam/
LOCATION:PWA Offices\, 163 Queen Street East\, Toronto\, On\, M5A 1S1\, Canada
ATTACH;FMTTYPE=image/jpeg:https://res.cloudinary.com/dlte7ibav/images/f_auto,q_auto/v1770838824/Feb-2-Dol-Kam/Feb-2-Dol-Kam.jpg?_i=AA
END:VEVENT
BEGIN:VEVENT
DTSTART;TZID=America/Toronto:20250313T180000
DTEND;TZID=America/Toronto:20250313T193000
DTSTAMP:20260421T182517
CREATED:20250304T184617Z
LAST-MODIFIED:20260209T191623Z
UID:17217-1741888800-1741894200@www.pwatoronto.org
SUMMARY:Transitioning from ODSP to CPP OAS
DESCRIPTION:PWA and HALCO present: Income assistance when you turn 65 \nCPP\, OAS\, GIS\, GAINS\, ODSP \nHealth benefits \nRent Geared to income (RGI) housing \nPlanning ahead for incapacity and death \nPowers of attorney/Wills
URL:https://www.pwatoronto.org/event/transitioning-from-odsp-to-cpp-oas/
LOCATION:PWA Offices\, 163 Queen Street East\, Toronto\, On\, M5A 1S1\, Canada
ATTACH;FMTTYPE=image/png:https://res.cloudinary.com/dlte7ibav/images/f_auto,q_auto/v1741114189/Transitioning-from-ODSP/Transitioning-from-ODSP.png?_i=AA
END:VEVENT
BEGIN:VEVENT
DTSTART;TZID=America/Toronto:20250218T130000
DTEND;TZID=America/Toronto:20250218T150000
DTSTAMP:20260421T182517
CREATED:20250214T182519Z
LAST-MODIFIED:20250214T194548Z
UID:17179-1739883600-1739890800@www.pwatoronto.org
SUMMARY:Dance Performance Caribbean
DESCRIPTION:
URL:https://www.pwatoronto.org/event/dance-performance-caribbean/
LOCATION:On
ATTACH;FMTTYPE=image/jpeg:https://res.cloudinary.com/dlte7ibav/images/f_auto,q_auto/v1739562339/caribbean1/caribbean1.jpg?_i=AA
END:VEVENT
BEGIN:VEVENT
DTSTART;TZID=America/Toronto:20250214T080000
DTEND;TZID=America/Toronto:20250214T170000
DTSTAMP:20260421T182517
CREATED:20250214T195251Z
LAST-MODIFIED:20250214T195251Z
UID:17191-1739520000-1739552400@www.pwatoronto.org
SUMMARY:Black History Month Fashion Show
DESCRIPTION:
URL:https://www.pwatoronto.org/event/black-history-month-fashion-show/
LOCATION:On
ATTACH;FMTTYPE=image/jpeg:https://res.cloudinary.com/dlte7ibav/images/f_auto,q_auto/v1739562764/black-history/black-history.jpg?_i=AA
END:VEVENT
BEGIN:VEVENT
DTSTART;TZID=America/Toronto:20250214T080000
DTEND;TZID=America/Toronto:20250214T170000
DTSTAMP:20260421T182517
CREATED:20250214T195101Z
LAST-MODIFIED:20250214T195101Z
UID:17188-1739520000-1739552400@www.pwatoronto.org
SUMMARY:Dance performance Uganda and Kenya
DESCRIPTION:
URL:https://www.pwatoronto.org/event/dance-performance-uganda-and-kenya/
LOCATION:On
ATTACH;FMTTYPE=image/jpeg:https://res.cloudinary.com/dlte7ibav/images/f_auto,q_auto/v1739562655/uganda/uganda.jpg?_i=AA
END:VEVENT
BEGIN:VEVENT
DTSTART;TZID=America/Toronto:20250214T080000
DTEND;TZID=America/Toronto:20250214T170000
DTSTAMP:20260421T182517
CREATED:20250214T194705Z
LAST-MODIFIED:20250214T194705Z
UID:17185-1739520000-1739552400@www.pwatoronto.org
SUMMARY:Dance performance Tanzanian
DESCRIPTION:
URL:https://www.pwatoronto.org/event/dance-performance-tanzanian/
LOCATION:On
ATTACH;FMTTYPE=image/jpeg:https://res.cloudinary.com/dlte7ibav/images/f_auto,q_auto/v1739562413/tanzania1/tanzania1.jpg?_i=AA
END:VEVENT
BEGIN:VEVENT
DTSTART;TZID=America/Toronto:20250214T080000
DTEND;TZID=America/Toronto:20250214T170000
DTSTAMP:20260421T182517
CREATED:20250214T194422Z
LAST-MODIFIED:20250214T194422Z
UID:17181-1739520000-1739552400@www.pwatoronto.org
SUMMARY:Nigerian Dance performance
DESCRIPTION:
URL:https://www.pwatoronto.org/event/nigerian-dance-performance/
LOCATION:On
ATTACH;FMTTYPE=image/jpeg:https://res.cloudinary.com/dlte7ibav/images/f_auto,q_auto/v1739562257/nigerian1_171829de56/nigerian1_171829de56.jpg?_i=AA
END:VEVENT
END:VCALENDAR