BEGIN:VCALENDAR
VERSION:2.0
PRODID:-//PWA Toronto - ECPv6.13.2.1//NONSGML v1.0//EN
CALSCALE:GREGORIAN
METHOD:PUBLISH
X-WR-CALNAME:PWA Toronto
X-ORIGINAL-URL:https://www.pwatoronto.org
X-WR-CALDESC:Events for PWA Toronto
REFRESH-INTERVAL;VALUE=DURATION:PT1H
X-Robots-Tag:noindex
X-PUBLISHED-TTL:PT1H
BEGIN:VTIMEZONE
TZID:America/Toronto
BEGIN:DAYLIGHT
TZOFFSETFROM:-0500
TZOFFSETTO:-0400
TZNAME:EDT
DTSTART:20260308T070000
END:DAYLIGHT
BEGIN:STANDARD
TZOFFSETFROM:-0400
TZOFFSETTO:-0500
TZNAME:EST
DTSTART:20261101T060000
END:STANDARD
END:VTIMEZONE
BEGIN:VEVENT
DTSTART;TZID=America/Toronto:20260228T160000
DTEND;TZID=America/Toronto:20260228T190000
DTSTAMP:20260421T151358
CREATED:20260209T201507Z
LAST-MODIFIED:20260209T201507Z
UID:17461-1772294400-1772305200@www.pwatoronto.org
SUMMARY:Black History Month: Fashion Show
DESCRIPTION:PWA’s Black History Month Presents: \nFashion Show! Black Cultures. Black Power. Black Brilliance.  \nCelebrate culture\, creativity\, and style at our Black History Month Fashion Show! Join us as we showcase fashion inspired by Black history\, heritage\, and expression. Admission is free! Enjoy food\, drinks\, music\, and games throughout the event. Come for the fashion\, stay for the vibes—and celebrate Black excellence in all its forms. \n 
URL:https://www.pwatoronto.org/event/black-history-month-fashion-show-2/
LOCATION:PWA Offices\, 163 Queen Street East\, Toronto\, On\, M5A 1S1\, Canada
ATTACH;FMTTYPE=image/jpeg:https://res.cloudinary.com/dlte7ibav/images/f_auto,q_auto/v1770668067/Feb-28-Fashion-Show/Feb-28-Fashion-Show.jpg?_i=AA
END:VEVENT
END:VCALENDAR