BEGIN:VCALENDAR
VERSION:2.0
PRODID:-//PWA Toronto - ECPv6.13.2.1//NONSGML v1.0//EN
CALSCALE:GREGORIAN
METHOD:PUBLISH
X-ORIGINAL-URL:https://www.pwatoronto.org
X-WR-CALDESC:Events for PWA Toronto
REFRESH-INTERVAL;VALUE=DURATION:PT1H
X-Robots-Tag:noindex
X-PUBLISHED-TTL:PT1H
BEGIN:VTIMEZONE
TZID:America/Toronto
BEGIN:DAYLIGHT
TZOFFSETFROM:-0500
TZOFFSETTO:-0400
TZNAME:EDT
DTSTART:20260308T070000
END:DAYLIGHT
BEGIN:STANDARD
TZOFFSETFROM:-0400
TZOFFSETTO:-0500
TZNAME:EST
DTSTART:20261101T060000
END:STANDARD
END:VTIMEZONE
BEGIN:VEVENT
DTSTART;TZID=America/Toronto:20260213T130000
DTEND;TZID=America/Toronto:20260213T140000
DTSTAMP:20260421T151808
CREATED:20260212T163835Z
LAST-MODIFIED:20260212T163835Z
UID:17489-1770987600-1770991200@www.pwatoronto.org
SUMMARY:Black History Month: Momo and Emmanuel Sua
DESCRIPTION:PWA’s Black History Month Presents: \nMomo and Emmanuel Sua \nToday we’re celebrating the artistry\, brilliance\, and creative power of Momo and Emmanuel Sua. Through their individual work\, they carry forward the richness of Black cultures — bold\, dynamic\, expressive\, and rooted in generations of resilience and imagination.
URL:https://www.pwatoronto.org/event/black-history-month-momo-and-emmanuel-sua/
LOCATION:PWA Offices\, 163 Queen Street East\, Toronto\, On\, M5A 1S1\, Canada
ATTACH;FMTTYPE=image/jpeg:https://res.cloudinary.com/dlte7ibav/images/f_auto,q_auto/v1770914282/Feb-13-Momo-and-Emmanuel/Feb-13-Momo-and-Emmanuel.jpg?_i=AA
END:VEVENT
END:VCALENDAR