BEGIN:VCALENDAR
VERSION:2.0
PRODID:-//PWA Toronto - ECPv6.13.2.1//NONSGML v1.0//EN
CALSCALE:GREGORIAN
METHOD:PUBLISH
X-WR-CALNAME:PWA Toronto
X-ORIGINAL-URL:https://www.pwatoronto.org
X-WR-CALDESC:Events for PWA Toronto
REFRESH-INTERVAL;VALUE=DURATION:PT1H
X-Robots-Tag:noindex
X-PUBLISHED-TTL:PT1H
BEGIN:VTIMEZONE
TZID:America/Toronto
BEGIN:DAYLIGHT
TZOFFSETFROM:-0500
TZOFFSETTO:-0400
TZNAME:EDT
DTSTART:20260308T070000
END:DAYLIGHT
BEGIN:STANDARD
TZOFFSETFROM:-0400
TZOFFSETTO:-0500
TZNAME:EST
DTSTART:20261101T060000
END:STANDARD
END:VTIMEZONE
BEGIN:VEVENT
DTSTART;TZID=America/Toronto:20260212T130000
DTEND;TZID=America/Toronto:20260212T140000
DTSTAMP:20260421T151523
CREATED:20260212T163255Z
LAST-MODIFIED:20260212T163255Z
UID:17486-1770901200-1770904800@www.pwatoronto.org
SUMMARY:Black History Month: Drumming Circle
DESCRIPTION:PWA’s Black History Month Presents: \nDrumming Circle \nJoin us today for a powerful\, heart-centered drumming circle presented by 2-Spirited People of the 1st Nations. \nHeld during our Black History Month celebrations\, this gathering honours the shared and ongoing impacts of colonization on both Black and Indigenous peoples. Through drum\, rhythm\, and collective presence\, we recognize the ways our communities have resisted\, survived\, and continued to carry culture\, ceremony\, and story forward. \nAll are welcome. Come sit in circle. Come feel the drum.
URL:https://www.pwatoronto.org/event/black-history-month-drumming-circle/
LOCATION:PWA Offices\, 163 Queen Street East\, Toronto\, On\, M5A 1S1\, Canada
ATTACH;FMTTYPE=image/jpeg:https://res.cloudinary.com/dlte7ibav/images/f_auto,q_auto/v1770913964/Feb-12-Drum-Circle/Feb-12-Drum-Circle.jpg?_i=AA
END:VEVENT
END:VCALENDAR