BEGIN:VCALENDAR
VERSION:2.0
PRODID:-//PWA Toronto - ECPv6.13.2.1//NONSGML v1.0//EN
CALSCALE:GREGORIAN
METHOD:PUBLISH
X-WR-CALNAME:PWA Toronto
X-ORIGINAL-URL:https://www.pwatoronto.org
X-WR-CALDESC:Events for PWA Toronto
REFRESH-INTERVAL;VALUE=DURATION:PT1H
X-Robots-Tag:noindex
X-PUBLISHED-TTL:PT1H
BEGIN:VTIMEZONE
TZID:America/Toronto
BEGIN:DAYLIGHT
TZOFFSETFROM:-0500
TZOFFSETTO:-0400
TZNAME:EDT
DTSTART:20260308T070000
END:DAYLIGHT
BEGIN:STANDARD
TZOFFSETFROM:-0400
TZOFFSETTO:-0500
TZNAME:EST
DTSTART:20261101T060000
END:STANDARD
END:VTIMEZONE
BEGIN:VEVENT
DTSTART;TZID=America/Toronto:20260209T130000
DTEND;TZID=America/Toronto:20260209T140000
DTSTAMP:20260421T151553
CREATED:20260209T192855Z
LAST-MODIFIED:20260209T193856Z
UID:17455-1770642000-1770645600@www.pwatoronto.org
SUMMARY:Black History Month: Amina Shoo
DESCRIPTION:PWA’s Black History Month Presents: \nLearn how to make delicious Jollof Rice with Amina Shoo \nToday\, we’re celebrating culture through food! Join us and learn how to make delicious Jollof Rice with Amina Shoo\, who will be sharing her Tanzanian roots\, stories\, and flavours. All are welcome — bring your curiosity and your appetite! \nCome for the culture\, stay for the food. \n 
URL:https://www.pwatoronto.org/event/black-history-month-amina-shoo/
LOCATION:PWA Offices\, 163 Queen Street East\, Toronto\, On\, M5A 1S1\, Canada
ATTACH;FMTTYPE=image/jpeg:https://res.cloudinary.com/dlte7ibav/images/f_auto,q_auto/v1770665104/Feb-9-Amina-Shoo/Feb-9-Amina-Shoo.jpg?_i=AA
END:VEVENT
END:VCALENDAR